Workbook

Sheet 工程造价汇总表
A1: 建设工程造价汇总表
A2: 工程名称：深圳市团校教学楼6F公共区域功能提升改造工程
A3: 序号 | B3: 费用名称 | C3: 金额(元) | D3: 备注
A4: 一 | B4: 分部分项工程费 | C4: =C5+C6+C7+C8 -> 0
A5: 1 | B5: 装饰工程 | C5: =装饰工程分部分项清单!G70 -> 0
A6: 2 | B6: 电气安装工程 | C6: =电气安装工程分部分项清单!G53 -> 0
A7: 3 | B7: 给排水安装工程 | C7: =给排水安装工程分部分项清单!G30 -> 0
A8: 4 | B8: 消防工程 | C8: =消防工程分部分项清单!G7 -> 0
A9: 二 | B9: 措施项目费 | C9: =措施项目清单!G9 -> 0
A10: 三 | B10: 税前工程造价（一+二） | C10: =(C4+C9)/1.09 -> 0
A11: 四 | B11: 增值税（税率9%） | C11: =C10*0.09 -> 0
B12: 工程造价合计（三+四） | C12: =C11+C10 -> 0

Sheet 装饰工程分部分项清单
A1: 分部分项工程量清单与计价表（装饰工程）
A2: 序号 | B2: 项目名称 | C2: 项目特征描述 | D2: 单位 | E2: 工程量 | F2: 含税综合单价(元) | G2: 合价(元) | H2: 备注
A3: A、拆除工程
A4: 1 | B4: 墙面腻子涂料层铲除 | C4: 1.铲除保留墙面原腻子/涂料层至基层 2.垃圾装袋清运 | D4: m² | E4: 380 | G4: =F4*E4 -> 0
A5: 2 | B5: 卫生间墙面砖拆除 | C5: 1.拆除卫生间原有墙砖及结合层 2.垃圾装袋清运 | D5: m² | E5: 16 | G5: =F5*E5 -> 0
A6: 3 | B6: 地面砖拆除 | C6: 1.公共区原地砖及结合层拆除(大厅/会议/电梯厅/卫生间/茶水设备) 2.垃圾装袋清运 | D6: m² | E6: 205 | G6: =F6*E6 -> 0
A7: 4 | B7: 吊顶拆除 | C7: 1.原有吊顶龙骨及面层拆除 2.垃圾装袋清运 | D7: m² | E7: 278 | G7: =F7*E7 -> 0
A8: 5 | B8: 旧门窗拆除 | C8: 1.原木门/玻璃门(含框)拆除 2.垃圾清运 | D8: 樘 | E8: 8 | G8: =F8*E8 -> 0
A9: 6 | B9: 旧门窗拆除（保护性拆除） | C9: 1.原双开木门(含框)保护性拆除 | D9: 樘 | E9: 1 | G9: =F9*E9 -> 0
A10: 7 | B10: 拆除原有隔墙 | C10: 1.拆除原有砌体/轻钢龙骨隔墙 2.含抹灰层,垃圾清运 | D10: m² | E10: 327.08 | G10: =F10*E10 -> 0
A11: 8 | B11: 拆除旧玻璃隔断 | C11: 1.拆除原玻璃隔断及框料 2.垃圾清运 | D11: m² | E11: 15 | G11: =F11*E11 -> 0
A12: 9 | B12: 旧卫生洁具拆除 | C12: 1.原坐便/洗手盆/小便器及五金拆除 2.垃圾清运 | D12: 套 | E12: 3 | G12: =F12*E12 -> 0
A13: 10 | B13: 窗台石拆除 | C13: 1.原窗台石拆除 2.垃圾清运 | D13: m | E13: 23.06 | G13: =F13*E13 -> 0
A14: 11 | B14: 拆除旧分体空调 | C14: 1.拆除旧立柜空调2台/挂机3台 2.含回收冷媒/管线,清运 | D14: 台 | E14: 5 | G14: =F14*E14 -> 0
A15: 12 | B15: 建筑垃圾外运 | C15: 1.拆除垃圾装袋 2.人工搬运至楼下堆放点 3.含外运处置费 | D15: m³ | E15: 25 | G15: =F15*E15 -> 0
B16: 拆除工程 小计 | G16: =SUM(G4:G15) -> 0
A17: B、砌筑及隔墙工程
A18: 13 | B18: 轻质砖隔墙 | C18: 1.200厚蒸压砂加气砌块 2.专用砂浆砌筑,卫生间/管井局部 | D18: m² | E18: 51.81 | G18: =F18*E18 -> 0
A19: 14 | B19: 轻钢龙骨硅酸钙板隔墙 | C19: 1.100厚75系列轻钢龙骨 2.双面9厘硅酸钙板,离心玻璃棉填充 3.含接缝防锈处理 | D19: m² | E19: 63.37 | G19: =F19*E19 -> 0
A20: 15 | B20: 混凝土止水坎 | C20: 1.C20现浇混凝土 2.60宽×200高,卫生间/茶水设备周边 | D20: m³ | E20: 0.23 | G20: =F20*E20 -> 0
B21: 砌筑及隔墙工程 小计 | G21: =SUM(G18:G20) -> 0
A22: C、地面工程
A23: 16 | B23: 块料楼地面(浅灰大理石瓷砖) | C23: 1.CT-01浅灰大理石瓷砖600×1200×10 2.DSM15砂浆结合层、含美缝 3.大厅/大会议室/电梯厅/小会议室/ | D23: m² | E23: =66.73+93.45 -> 160.18 | G23: =F23*E23 -> 0
A24: 17 | B24: 块料楼地面(木纹砖) | C24: 1.CT-03木纹砖200×1200×10 2.DSM15砂浆结合层，含美缝 3.心理室 | D24: m² | E24: 20.56 | G24: =F24*E24 -> 0
A25: 18 | B25: 块料楼地面(卫生间防滑砖) | C25: 1.CT-02米色柔光防滑砖300×600×10，含美缝 2.含找坡1%/防水保护层 | D25: m² | E25: 5 | G25: =F25*E25 -> 0
A26: 19 | B26: 石材门槛石 | C26: 1.ST-01深灰石材20厚 2.益胶泥粘结,含磨边倒角 | D26: m | E26: 9 | G26: =F26*E26 -> 0
A27: 20 | B27: 金属收口条 | C27: 1.铜色金属收口条 2.地面材料交接处 | D27: m | E27: 15 | G27: =F27*E27 -> 0
A28: 21 | B28: 地面防水 | C28: 1.聚氨酯涂膜2mm(2遍),卫生间/茶水/设备 2.上翻300,含蓄水试验 | D28: m² | E28: 22 | G28: =F28*E28 -> 0
A29: 22 | B29: 墙面防水 | C29: 1.益胶泥刚性防水2-3mm 2.卫生间墙面1800高/茶水设备1200高 | D29: m² | E29: 37 | G29: =F29*E29 -> 0
A30: 23 | B30: 陶粒混凝土回填 | C30: 1.陶粒:水泥=5:1 2.卫生间下沉回填找平夯实 | D30: 项 | E30: 1 | G30: =F30*E30 -> 0
B31: 地面工程 小计 | G31: =SUM(G23:G30) -> 0
A32: D、墙面工程
A33: 24 | B33: 墙面一般抹灰 | C33: 1.13厚水泥石灰膏砂浆打底 2.5厚找平,新建轻质砖墙及局部修补 | D33: m² | E33: 83.62 | G33: =F33*E33 -> 0
A34: 25 | B34: 墙面乳胶漆 | C34: 1.PT-01白色乳胶漆一底二面 2.耐水腻子刮平打磨,含抗碱底漆 | D34: m² | E34: 300 | G34: =F34*E34 -> 0
A35: 26 | B35: 墙面乳胶漆（原墙面） | C35: 1.PT-01白色乳胶漆 2.局部耐水腻子刮平打磨,含原乳胶漆饰面墙刷固胶 | D35: m² | E35: 154.456 | G35: =F35*E35 -> 0
A36: 27 | B36: 墙面碳晶板(橡木面) | C36: 1.WD-02橡木面碳晶板1220×2440×10 2.阻燃板基层,大会议室背景 | D36: m² | E36: 40 | G36: =F36*E36 -> 0
A37: 28 | B37: 墙面硬包(布艺) | C37: 1.UP-01米色布艺硬包 2.15厚阻燃板基层,电视背景 | D37: m² | E37: 6 | G37: =F37*E37 -> 0
A38: 29 | B38: 墙面不锈钢装饰 | C38: 1.MT-05铜色哑光不锈钢1.2厚304 2.电视造型/收口,含基层 | D38: m² | E38: 8 | G38: =F38*E38 -> 0
A39: 30 | B39: 墙面砖(卫生间) | C39: 1.CT-04米色柔光砖600×1200×10 2.瓷砖胶粘贴层,含美缝 | D39: m² | E39: 16 | G39: =F39*E39 -> 0
A40: 31 | B40: 卫生间隔断 | C40: 1.(抗倍特)隔断 2.含合页/拉手/锁等五金 | D40: m² | E40: 4 | G40: =F40*E40 -> 0
A41: 32 | B41: 墙面硅藻泥 | C41: 1.PT-02红色硅藻泥 2.大厅/电梯厅LOGO背景墙 | D41: m² | E41: 13 | G41: =F41*E41 -> 0
A42: 33 | B42: 玻璃隔断(长虹玻璃) | C42: 1.GL-02 12mm长虹钢化玻璃 2.成品铝型材框收口,含五金(LOGO墙弧形造型段) | D42: m² | E42: =0.825*2*2.6 -> 4.29 | G42: =F42*E42 -> 0
A43: 34 | B43: 玻璃隔断(钢化白玻) | C43: 1.GL-01 12mm钢化白玻(磨砂膜) 2.铝型材框,到顶隔断 | D43: m² | E43: =4.41*2.1 -> 9.261 | G43: =F43*E43 -> 0
A44: 35 | B44: 墙面银镜 | C44: 1.MR-01 5mm银镜（含深灰色哑光不锈钢收口） 2.卫生间,含基层安装 | D44: m² | E44: 2.2 | G44: =F44*E44 -> 0
A45: 36 | B45: 石材踢脚线 | C45: 1.ST-03成品石材踢脚线10厚 2.各房间墙脚 | D45: m | E45: 198 | G45: =F45*E45 -> 0
A46: 37 | B46: 不锈钢收口条 | C46: 1.MT-04/MT-05不锈钢收口条1.2厚 2.造型及材料交接处 | D46: m | E46: 30 | G46: =F46*E46 -> 0
B47: 墙面工程 小计 | G47: =SUM(G33:G46) -> 0
A48: E、天棚工程
A49: 38 | B49: 造型吊顶天棚 | C49: 1.50系列轻钢龙骨(主900次400),Φ8螺纹吊杆@900 2.双层9厘耐火纸面石膏板（含灯槽、侧板） 3.大厅/大会议室/小会议室部分/茶水间 | D49: m² | E49: =12.2+57.05+66.16+9.47+1.83 -> 146.71 | G49: =F49*E49 -> 0
A50: 39 | B50: 吊顶天棚(铝扣板) | C50: 1.铝蜂窝大板含配套龙骨 | D50: m² | E50: 5 | G50: =F50*E50 -> 0
A51: 40 | B51: 吊顶天棚(铝格栅) | C51: 1.40×100铝格栅,工厂配套龙骨 2.电梯厅造型区,原顶喷灰 | D51: m² | E51: 25.5 | G51: =F51*E51 -> 0
A52: 41 | B52: 硅钙板吊顶天棚 | C52: 1.KG-01硅钙板600×600×9 2.C50明架龙骨,心理谈话室/资料/文印/财务 | D52: m² | E52: =34.29+14.29+14.27+20.56 -> 83.41 | G52: =F52*E52 -> 0
A53: 42 | B53: 吊顶天棚(碳晶板造型) | C53: 1.WD-01金属面碳晶板1220×2440×10 2.大会议室天花局部叠级造型 | D53: m² | E53: 24.77 | G53: =F53*E53 -> 0
A54: 43 | B54: 天棚乳胶漆 | C54: 1.PT-01白色乳胶漆一底二面 2.硅酸钙板吊顶面 | D54: m² | E54: =(12.2+57.05+66.16+9.47+1.83)*1.15-24.77 -> 143.9465 | G54: =F54*E54 -> 0
A55: 44 | B55: 天棚原顶喷灰 | C55: 1.深灰涂料原顶喷灰 2.铝格栅上空原天花 | D55: m² | E55: =25.5*1.5 -> 38.25 | G55: =F55*E55 -> 0
A56: 45 | B56: 吊顶灯带槽 | C56: 1.LED反光灯槽制作安装 2.大会议室/大厅造型 | D56: m | E56: 68.09 | G56: =F56*E56 -> 0
A57: 46 | B57: 天花检修口 | C57: 1.成品铝合金检修口 2.含边框 | D57: 个 | E57: 5 | G57: =F57*E57 -> 0
B58: 天棚工程 小计 | G58: =SUM(G49:G57) -> 0
A59: F、门窗工程
A60: 47 | B60: 成品木门 | C60: 1.成品夹芯木饰面门含门套/合页/锁/门吸 2.门高2100，财务室/资料室/文印室/茶水间/心理谈话室/卫生间 | D60: 樘 | E60: 6 | G60: =F60*E60 -> 0
A61: 48 | B61: 成品玻璃门 | C61: 1.钢化玻璃门含地弹簧/拉手/锁 | D61: 樘 | E61: 1 | G61: =F61*E61 -> 0
A62: 49 | B62: 原有玻璃门整修(利旧) | C62: 1.利用原有玻璃门2樘 2.仅计五金调试/门吸地弹簧检修/清洁/密封修整/复位,不含门及框主材 | D62: 樘 | E62: 2 | G62: =F62*E62 -> 0
A63: 50 | B63: 石材窗台板 | C63: 1.ST-02米色人造石20厚 2.含磨边倒角安装 | D63: m | E63: 23.06 | G63: =F63*E63 -> 0
B64: 门窗工程 小计 | G64: =SUM(G60:G63) -> 0
A65: G、固定家具及其他
A66: 51 | B66: 定制橱柜(茶水间) | C66: 1.实木多层板橱柜含人造石台面/五金 | D66: m | E66: 4.5 | G66: =F66*E66 -> 0
A67: 52 | B67: 定制洗手台柜(卫生间) | C67: 1.实木多层板台柜含人造石台面 | D67: m | E67: 1.2 | G67: =F67*E67 -> 0
A68: 53 | B68: 广告字及标识 | C68: 1.铜色不锈钢发光字/迷你字/团徽 2.广告公司二次深化 | D68: 项 | E68: 1 | G68: =F68*E68 -> 0
B69: 固定家具及其他 小计 | G69: =SUM(G66:G68) -> 0
A70: 装饰工程分部分项清单合计 | G70: =G69+G64+G58+G47+G31+G21+G16 -> 0

Sheet 电气安装工程分部分项清单
A1: 分部分项工程量清单与计价表（电气安装工程）
A2: 序号 | B2: 项目名称 | C2: 项目特征描述 | D2: 单位 | E2: 工程量 | F2: 含税综合单价(元) | G2: 合价(元) | H2: 备注
A3: A、配电装置
A4: 1 | B4: 总配电箱1ZAL1 | C4: 1.成套配电箱安装 暗装 2.含所需元器件 3.含接线调试 | D4: 台 | E4: 1 | G4: =F4*E4 -> 0
A5: 2 | B5: 配电箱 | C5: 1.成套配电箱安装 暗装 2.含所需元器件 3.含接线调试 | D5: 台 | E5: 5 | G5: =F5*E5 -> 0
A6: 3 | B6: 开关插座底盒 | C6: 1.86型暗装底盒,含锁母护口 2.按灯具/开关/插座点位配置 | D6: 个 | E6: =E30+E31+E32+E33+E34+E35+E36+E37+E38 -> 57 | G6: =F6*E6 -> 0
A7: 4 | B7: 强电金属桥架 | C7: 1.镀锌槽式桥架200×100含盖板/支架 2.DWG双线合并强电桥架9.2m | D7: m | E7: 9.2 | G7: =F7*E7 -> 0
A8: 5 | B8: 弱电金属桥架 | C8: 1.镀锌槽式桥架150×100含盖板/支架 2.DWG双线合并弱电桥架7.8m | D8: m | E8: 7.8 | G8: =F8*E8 -> 0
B9: 配电装置 小计 | G9: =SUM(G4:G8) -> 0
A10: B、配管配线
A11: 5 | B11: 配管JDG20 | C11: 1.扣压式镀锌钢导管JDG20 2.照明支线,暗配,含支架 | D11: m | E11: 305 | G11: =F11*E11 -> 0
A12: 6 | B12: 配管JDG25 | C12: 1.扣压式镀锌钢导管JDG25 2.空调/主干回路,暗配 | D12: m | E12: 72 | G12: =F12*E12 -> 0
A13: 7 | B13: 配管JDG32 | C13: 1.扣压式镀锌钢导管JDG32 2.进线/桥架引下 | D13: m | E13: 25 | G13: =F13*E13 -> 0
A14: 8 | B14: 配线WDZC-BYJ-2.5 | C14: 1.无卤低烟阻燃C类布电线2.5mm² 2.照明支线,管内穿线 | D14: m | E14: 660 | G14: =F14*E14 -> 0
A15: 9 | B15: 配线WDZC-BYJ-4 | C15: 1.无卤低烟阻燃C类布电线4mm² 2.插座支线,管内穿线 | D15: m | E15: 355 | G15: =F15*E15 -> 0
A16: 10 | B16: 配线WDZC-BYJ-10 | C16: 1.无卤低烟阻燃C类布电线10mm² 2.进线主干 | D16: m | E16: 35 | G16: =F16*E16 -> 0
A17: 11 | B17: 接线盒 | C17: 1.86型暗装接线盒含盖板 | D17: 个 | E17: 72 | G17: =F17*E17 -> 0
B18: 配管配线 小计 | G18: =SUM(G11:G17) -> 0
A19: C、照明器具
A20: 12 | B20: LED防眩筒灯 | C20: 1.开孔75,12W,4000K 2.吊顶嵌入式,光束角待设计确认 | D20: 套 | E20: 44 | G20: =F20*E20 -> 0
A21: 13 | B21: LED防眩射灯 | C21: 1.开孔75,12W,3500K,24° 2.吊顶嵌入式 | D21: 套 | E21: 22 | G21: =F21*E21 -> 0
A22: 14 | B22: LED软灯带(灯槽) | C22: 1.LED低压软灯带含驱动电源,4000K,灯槽内敷设 2.沿暗藏灯槽满布, | D22: m | E22: 68.09 | G22: =F22*E22 -> 0
A23: 16 | B23: LED灯盘600×600 | C23: 1.48W,4000K,嵌入式 2.配明架600硅钙板模数 | D23: 套 | E23: 17 | G23: =F23*E23 -> 0
A24: 17 | B24: LED长条灯盘 | C24: 1.100×1500/60×3204,4000K嵌入式 2.含吊装/嵌入配件 | D24: 套 | E24: 11 | G24: =F24*E24 -> 0
A25: 18 | B25: 大会议室专用装饰灯 | C25: 1.LED造型装饰灯 2.吊杆安装,参数待设计确认 | D25: 套 | E25: 7 | G25: =F25*E25 -> 0
A26: 19 | B26: RC-13特殊灯具 | C26: 1.LED特殊造型灯具 2.型号参数待设计确认,暂估价 | D26: 套 | E26: 4 | G26: =F26*E26 -> 0
A27: 20 | B27: 管道式排气扇SF-01 | C27: 1.静音管道排气扇 2.卫生间/茶水/设备,含软管接口 | D27: 台 | E27: 4 | G27: =F27*E27 -> 0
B28: 照明器具 小计 | G28: =SUM(G20:G27) -> 0
A29: D、开关插座
A30: 21 | B30: 单联单控开关 | C30: 1.单联单控开关 2.10A,250V 3.86型暗装 4.含接线 | D30: 个 | E30: 1 | G30: =F30*E30 -> 0
A31: 22 | B31: 双联单控开关 | C31: 1.双联单控开关 2.10A,250V 3.86型暗装 4.含接线 | D31: 个 | E31: 6 | G31: =F31*E31 -> 0
A32: 23 | B32: 三联单控开关 | C32: 1.单联单控开关 2.10A,250V 3.86型暗装 4.含接线 | D32: 个 | E32: 3 | G32: =F32*E32 -> 0
A33: 24 | B33: 四联单控开关 | C33: 1.单联单控开关 2.10A,250V 3.86型暗装 4.含接线 | D33: 个 | E33: 1 | G33: =F33*E33 -> 0
A34: 25 | B34: 五孔插座 | C34: 1.五孔插座 2.10A,250V 3.86型暗装 4.含接线 | D34: 个 | E34: 29 | G34: =F34*E34 -> 0
A35: 26 | B35: 空调插座 | C35: 1.空调插座 2.16A,250V 3.86型暗装 4.含接线 | D35: 个 | E35: 5 | G35: =F35*E35 -> 0
A36: 27 | B36: 网络插座(六类) | C36: 1.RJ45模块,86型 | D36: 个 | E36: 9 | G36: =F36*E36 -> 0
A37: 28 | B37: 电视网络组合插座 | C37: 1.RJ45+TV模块 | D37: 个 | E37: 2 | G37: =F37*E37 -> 0
A38: 29 | B38: 智能马桶预留插座 | C38: 1.10A,卫生间高0.45m | D38: 个 | E38: 1 | G38: =F38*E38 -> 0
B39: 开关插座 小计 | G39: =SUM(G30:G38) -> 0
A40: E、弱电系统
A41: 30 | B41: 弱电机柜(落地) | C41: 1.600×600×1600落地机柜 2.含24口交换机/理线架/配线架 | D41: 台 | E41: 1 | G41: =F41*E41 -> 0
A42: 31 | B42: 六类非屏蔽双绞线 | C42: 1.CAT6,管/桥架内敷设,含端接测试 | D42: m | E42: 185 | G42: =F42*E42 -> 0
A43: 32 | B43: 同轴视频线 | C43: 1.SYV-75-5,电视点位,含端接 | D43: m | E43: 30 | G43: =F43*E43 -> 0
A44: 33 | B44: 音响线 | C44: 1.2×1.5mm²,装饰音响布线 | D44: m | E44: 35 | G44: =F44*E44 -> 0
A45: 34 | B45: 无线AP（利旧安装） | C45: 1.吸顶式AP/WIFI覆,含接线、调试 | D45: 台 | E45: 3 | G45: =F45*E45 -> 0
A46: 35 | B46: 吸顶装饰音响（利旧安装） | C46: 1.6W/10W吸顶音响,含接线、调试 | D46: 台 | E46: 2 | G46: =F46*E46 -> 0
B47: 弱电系统 小计 | G47: =SUM(G41:G46) -> 0
A48: F、通风空调末端配合
A49: 36 | B49: 立柜式分体空调安装(设备甲供) | C49: 1.立柜(柜机)空调安装 2.设备由建设单位供应 | D49: 台 | E49: 3 | G49: =F49*E49 -> 0
A50: 37 | B50: 壁挂式分体空调安装(设备甲供) | C50: 1.壁挂(挂机)空调安装, 2.设备由建设单位供应, | D50: 台 | E50: 2 | G50: =F50*E50 -> 0
A51: 39 | B51: 空调设备及风管 | C51: 1.空调设备及风管供应及安装,含测试 2.具体方案看方案 3.大会议室及大厅至各一台一拖二 | D51: 台 | E51: 2 | G51: =F51*E51 -> 0
G52: =G51+G50+G49 -> 0
A53: 电气安装工程分部分项清单合计 | G53: =+G47+G39+G28+G18+G9+G52 -> 0

Sheet 给排水安装工程分部分项清单
A1: 分部分项工程量清单与计价表（给排水安装工程）
A2: 序号 | B2: 项目名称 | C2: 项目特征描述 | D2: 单位 | E2: 工程量 | F2: 含税综合单价(元) | G2: 合价(元) | H2: 备注
A3: A、给水管道
A4: 1 | B4: PP-R给水管DN25 | C4: 1.PN1.6MPa,热熔连接,暗敷 2.含管件支架/水压试验 | D4: m | E4: 12 | G4: =F4*E4 -> 0
A5: 2 | B5: PP-R给水管DN20 | C5: 1.PN1.6MPa,热熔连接,暗敷 | D5: m | E5: 14 | G5: =F5*E5 -> 0
A6: 3 | B6: PP-R给水管DN15 | C6: 1.PN1.6MPa,热熔连接,墙内暗敷 | D6: m | E6: 12 | G6: =F6*E6 -> 0
B7: 给水管道 小计 | G7: =SUM(G4:G6) -> 0
A8: B、排水管道
A9: 4 | B9: UPVC排水管DN100 | C9: 1.粘接,含管件/伸缩节/检查口 2.含灌水通球试验 | D9: m | E9: 9 | G9: =F9*E9 -> 0
A10: 5 | B10: UPVC排水管DN75 | C10: 1.粘接,含管件/伸缩节 | D10: m | E10: 5 | G10: =F10*E10 -> 0
A11: 6 | B11: UPVC排水管DN50 | C11: 1.粘接,含管件/存水弯 | D11: m | E11: 16 | G11: =F11*E11 -> 0
B12: 排水管道 小计 | G12: =SUM(G9:G11) -> 0
A13: C、卫生器具
A14: 7 | B14: 低水箱坐便器 | C14: 1.陶瓷低水箱座便器含角阀/软管/法兰 | D14: 套 | E14: 1 | G14: =F14*E14 -> 0
A15: 8 | B15: 台式洗脸盆 | C15: 1.陶瓷台式盆含冷热水龙头/下水/存水弯 | D15: 组 | E15: 1 | G15: =F15*E15 -> 0
A16: 9 | B16: 挂式小便器 | C16: 1.陶瓷小便器含感应冲洗阀 | D16: 套 | E16: 1 | G16: =F16*E16 -> 0
A17: 10 | B17: 不锈钢洗涤池(茶水间) | C17: 1.304不锈钢单星洗涤池含龙头/下水 | D17: 组 | E17: 1 | G17: =F17*E17 -> 0
A18: 11 | B18: 不锈钢防臭地漏 | C18: 1.DN50防返溢地漏,镀铬箅子 2.含与排水管连接/存水弯 | D18: 个 | E18: 2 | G18: =F18*E18 -> 0
B19: 卫生器具 小计 | G19: =SUM(G14:G18) -> 0
A20: D、阀门及附件
A21: 12 | B21: 螺纹铜阀门 | C21: 1.铜截止阀/闸阀,螺纹连接 | D21: 个 | E21: 6 | G21: =F21*E21 -> 0
A22: 13 | B22: 刚性防水套管 | C22: 1.穿墙/穿楼板,含封堵 | D22: 个 | E22: 3 | G22: =F22*E22 -> 0
A23: 14 | B23: 管道支架制作安装 | C23: 1.型钢支架,除锈刷防锈漆 | D23: kg | E23: 18 | G23: =F23*E23 -> 0
B24: 阀门及附件 小计 | G24: =SUM(G21:G23) -> 0
A25: E、其他
A26: 15 | B26: 给水管道橡塑保温 | C26: 1.橡塑保温20厚 | D26: m | E26: 10 | G26: =F26*E26 -> 0
A27: 16 | B27: 给水管道消毒冲洗试压 | C27: 1.水压试验/冲洗消毒 | D27: 系统 | E27: 1 | G27: =F27*E27 -> 0
A28: 17 | B28: 排水管道灌水通球试验 | C28: 1.灌水/通球试验 | D28: 系统 | E28: 1 | G28: =F28*E28 -> 0
B29: 其他 小计 | G29: =SUM(G26:G28) -> 0
A30: 给排水安装工程分部分项清单合计 | G30: =G29+G24+G19+G12+G7 -> 0

Sheet 消防工程分部分项清单
A1: 分部分项工程量清单与计价表（消防工程 ）
A2: 序号 | B2: 项目名称 | C2: 项目特征描述 | D2: 单位 | E2: 工程量 | F2: 含税综合单价(元) | G2: 合价(元) | H2: 备注
A3: A、原有消防设施配合(利用原有)
A4: 1 | B4: 原有喷淋头/探测器复位 | C4: 1.配合新吊顶对原有下喷喷淋头/感烟探测器拆装复位 2.原喷淋/报警主管及设备利用不改造 3.最终以消防专业深化为准 | D4: 处 | E4: 30 | G4: =F4*E4 -> 0
A5: 2 | B5: 消防系统配合调试 | C5: 1.复位后喷淋/报警系统配合调试 2.利用原有消防主机及线路 | D5: 系统 | E5: 1 | G5: =F5*E5 -> 0
B6: 原有消防设施配合(利用原有) 小计 | G6: =SUM(G4:G5) -> 0
A7: 消防工程分部分项清单合计 | G7: =G6 -> 0

Sheet 措施项目清单
A1: 措施项目清单与计价表
A2: 序号 | B2: 项目名称 | C2: 项目特征描述 | D2: 单位 | E2: 工程量 | F2: 含税综合单价(元) | G2: 合价(元) | H2: 备注
A3: 1 | B3: 安全文明施工费 | C3: 环境保护/文明施工/安全施工/临时设施费 | D3: 项 | E3: 1 | G3: =F3*E3 -> 0
A4: 2 | B4: 脚手架工程 | C4: 活动脚手架搭拆运输 | D4: m² | E4: 278 | G4: =F4*E4 -> 0
A5: 3 | B5: 成品保护费 | C5: 地面/墙面/门窗成品保护含材料人工 | D5: m² | E5: 278 | G5: =F5*E5 -> 0
A6: 4 | B6: 夜间施工增加费 | C6: 夜间照明/降效/夜班补助 | D6: 项 | E6: 1 | G6: =F6*E6 -> 0
A7: 5 | B7: 垂直运输费 | C7: 材料及垃圾6楼垂直运输 | D7: m² | E7: 278 | G7: =F7*E7 -> 0
A8: 6 | B8: 二次搬运费 | C8: 现场材料二次倒运 | D8: 项 | E8: 1 | G8: =F8*E8 -> 0
A9: 措施项目合计 | G9: =SUM(G3:G8) -> 0
